BEGIN:VCALENDAR
VERSION:2.0
PRODID:concerti//https://www.concerti.de
CALSCALE:GREGORIAN
BEGIN:VTIMEZONE
TZID:Europe/Berlin
X-LIC-LOCATION:Europe/Berlin
BEGIN:DAYLIGHT
TZOFFSETFROM:+0100
TZOFFSETTO:+0200
TZNAME:CEST
DTSTART:19700329T020000
RRULE:FREQ=YEARLY;BYMONTH=3;BYDAY=-1SU
END:DAYLIGHT
BEGIN:STANDARD
TZOFFSETFROM:+0200
TZOFFSETTO:+0100
TZNAME:CET
DTSTART:19701025T030000
RRULE:FREQ=YEARLY;BYMONTH=10;BYDAY=-1SU
END:STANDARD
END:VTIMEZONE
BEGIN:VEVENT
UID:030d5131abb078bd7057e8e0fa12eca7
SUMMARY:Rudolf Buchbinder (Klavier), Danish National Symphony Orchestra, Fabio Luisi (Leitung) - Grafenegg Festival
URL:https://www.concerti.de/termine/rudolf-buchbinder-klavier-danish-national-symphony-orchestra-fabio-luisi-leitung-820464/
DTSTART;TZID=Europe/Berlin:20260827T191500
DTEND;TZID=Europe/Berlin:20260827T211500
DESCRIPTION:Interpreten: Rudolf Buchbinder (Klavier)\, Danish National Symphony Orchestra\, Fabio Luisi (Leitung) \nProgramm: Nielsen: Vorspiel zum zweiten Akt von „Saul og David“\, Beethoven: Klavierkonzert Nr. 4 G-Dur op. 58\, Brahms/Schönberg: Klavierquartett g-Moll op. 25 \nhttps://www.concerti.de/termine/rudolf-buchbinder-klavier-danish-national-symphony-orchestra-fabio-luisi-leitung-820464/
LOCATION:Schloss Grafenegg\, Grafenegg 10\, 3485 Grafenegg
END:VEVENT
END:VCALENDAR