BEGIN:VCALENDAR
VERSION:2.0
PRODID:concerti//https://www.concerti.de
CALSCALE:GREGORIAN
BEGIN:VTIMEZONE
TZID:Europe/Berlin
X-LIC-LOCATION:Europe/Berlin
BEGIN:DAYLIGHT
TZOFFSETFROM:+0100
TZOFFSETTO:+0200
TZNAME:CEST
DTSTART:19700329T020000
RRULE:FREQ=YEARLY;BYMONTH=3;BYDAY=-1SU
END:DAYLIGHT
BEGIN:STANDARD
TZOFFSETFROM:+0200
TZOFFSETTO:+0100
TZNAME:CET
DTSTART:19701025T030000
RRULE:FREQ=YEARLY;BYMONTH=10;BYDAY=-1SU
END:STANDARD
END:VTIMEZONE
BEGIN:VEVENT
UID:aa3ff8d761a6f2cec6da8314c29d85c3
SUMMARY:Martin Fröst (Klarinette), Israel Philharmonic Orchestra, Lahav Shani (Leitung) - Grafenegg Festival
URL:https://www.concerti.de/termine/martin-froest-klarinette-israel-philharmonic-orchestra-lahav-shani-leitung-820461/
DTSTART;TZID=Europe/Berlin:20260823T193000
DTEND;TZID=Europe/Berlin:20260823T213000
DESCRIPTION:Interpreten: Martin Fröst (Klarinette)\, Israel Philharmonic Orchestra\, Lahav Shani (Leitung) \nProgramm: Mozart: Klarinettenkonzert A-Dur KV 622\, Mahler: Sinfonie Nr. 5 \nhttps://www.concerti.de/termine/martin-froest-klarinette-israel-philharmonic-orchestra-lahav-shani-leitung-820461/
LOCATION:Schloss Grafenegg\, Grafenegg 10\, 3485 Grafenegg
END:VEVENT
END:VCALENDAR