BEGIN:VCALENDAR
VERSION:2.0
PRODID:concerti//https://www.concerti.de
CALSCALE:GREGORIAN
BEGIN:VTIMEZONE
TZID:Europe/Berlin
X-LIC-LOCATION:Europe/Berlin
BEGIN:DAYLIGHT
TZOFFSETFROM:+0100
TZOFFSETTO:+0200
TZNAME:CEST
DTSTART:19700329T020000
RRULE:FREQ=YEARLY;BYMONTH=3;BYDAY=-1SU
END:DAYLIGHT
BEGIN:STANDARD
TZOFFSETFROM:+0200
TZOFFSETTO:+0100
TZNAME:CET
DTSTART:19701025T030000
RRULE:FREQ=YEARLY;BYMONTH=10;BYDAY=-1SU
END:STANDARD
END:VTIMEZONE
BEGIN:VEVENT
UID:ab28044621563bf02e2befdb47a9bdf7
SUMMARY:Antoine Tamestit (Viola), Iveta Apkalna (Orgel), WDR Sinfonieorchester, Marie Jacquot (Leitung) - Grosse Orchester
URL:https://www.concerti.de/termine/antoine-tamestit-viola-iveta-apkalna-orgel-wdr-sinfonieorchester-marie-jacquot-leitung-brucknerhaus-linz-820395/
DTSTART;TZID=Europe/Berlin:20261020T193000
DTEND;TZID=Europe/Berlin:20261020T213000
DESCRIPTION:Interpreten: Antoine Tamestit (Viola)\, Iveta Apkalna (Orgel)\, WDR Sinfonieorchester\, Marie Jacquot (Leitung) \nProgramm: Wagner: Ouvertüre zu „Tannhäuser und der Sängerkrieg auf der Wartburg“\, Escaich: La Nuit des Chants\, Saint-Saëns: Sinfonie Nr. 3 c-Moll op. 78 „Orgelsinfonie“ \nhttps://www.concerti.de/termine/antoine-tamestit-viola-iveta-apkalna-orgel-wdr-sinfonieorchester-marie-jacquot-leitung-brucknerhaus-linz-820395/
LOCATION:Brucknerhaus Linz\, Untere Donaulände 7\, 4010 Linz
END:VEVENT
END:VCALENDAR