BEGIN:VCALENDAR
VERSION:2.0
PRODID:concerti//https://www.concerti.de
CALSCALE:GREGORIAN
BEGIN:VTIMEZONE
TZID:Europe/Berlin
X-LIC-LOCATION:Europe/Berlin
BEGIN:DAYLIGHT
TZOFFSETFROM:+0100
TZOFFSETTO:+0200
TZNAME:CEST
DTSTART:19700329T020000
RRULE:FREQ=YEARLY;BYMONTH=3;BYDAY=-1SU
END:DAYLIGHT
BEGIN:STANDARD
TZOFFSETFROM:+0200
TZOFFSETTO:+0100
TZNAME:CET
DTSTART:19701025T030000
RRULE:FREQ=YEARLY;BYMONTH=10;BYDAY=-1SU
END:STANDARD
END:VTIMEZONE
BEGIN:VEVENT
UID:915e0d9e189f62a7d2617fc77cadbc69
SUMMARY:Lena Neudauer (Violine), Brandenburger Symphoniker, Marc Rohde (Leitung)
URL:https://www.concerti.de/termine/lena-neudauer-violine-brandenburger-symphoniker-andreas-spering-leitung-brandenburger-theater-819960/
DTSTART;TZID=Europe/Berlin:20260531T160000
DTEND;TZID=Europe/Berlin:20260531T180000
DESCRIPTION:Interpreten: Lena Neudauer (Violine)\, Brandenburger Symphoniker\, Marc Rohde (Leitung) \nProgramm: Beethoven: Leonoren-Ouvertüre Nr. 3 op. 72a & Violinkonzert D-Dur op. 61\, Brahms: Sinfonie Nr. 3 F-Dur op. 90 \nhttps://www.concerti.de/termine/lena-neudauer-violine-brandenburger-symphoniker-andreas-spering-leitung-brandenburger-theater-819960/
LOCATION:Brandenburger Theater\, Grabenstraße 14\, 14776 Brandenburg (Havel)
END:VEVENT
END:VCALENDAR