BEGIN:VCALENDAR
VERSION:2.0
PRODID:concerti//https://www.concerti.de
CALSCALE:GREGORIAN
BEGIN:VTIMEZONE
TZID:Europe/Berlin
X-LIC-LOCATION:Europe/Berlin
BEGIN:DAYLIGHT
TZOFFSETFROM:+0100
TZOFFSETTO:+0200
TZNAME:CEST
DTSTART:19700329T020000
RRULE:FREQ=YEARLY;BYMONTH=3;BYDAY=-1SU
END:DAYLIGHT
BEGIN:STANDARD
TZOFFSETFROM:+0200
TZOFFSETTO:+0100
TZNAME:CET
DTSTART:19701025T030000
RRULE:FREQ=YEARLY;BYMONTH=10;BYDAY=-1SU
END:STANDARD
END:VTIMEZONE
BEGIN:VEVENT
UID:e459f76547c41bf5e78e52f0f28b9f21
SUMMARY:Mari Ichihashi (Klavier)
URL:https://www.concerti.de/termine/mari-ichihashi-klavier-818979/
DTSTART;TZID=Europe/Berlin:20260719T170000
DTEND;TZID=Europe/Berlin:20260719T190000
DESCRIPTION:Interpreten: Mari Ichihashi (Klavier) \nProgramm: Beethoven: Klaviersonate Nr. 24 Fis-Dur op. 78 „Für Thérèse“\, Schumann: Acht Fantasiestücke op. 12\, Rachmaninow: Romanzen op. 34 & Morceaux de fantaisie op. 3\, Ravel: Le Tombeau de Coupérin \nhttps://www.concerti.de/termine/mari-ichihashi-klavier-818979/
LOCATION:Büchtmannshof\, Wieckenberg
END:VEVENT
END:VCALENDAR