BEGIN:VCALENDAR
VERSION:2.0
PRODID:concerti//https://www.concerti.de
CALSCALE:GREGORIAN
BEGIN:VTIMEZONE
TZID:Europe/Berlin
X-LIC-LOCATION:Europe/Berlin
BEGIN:DAYLIGHT
TZOFFSETFROM:+0100
TZOFFSETTO:+0200
TZNAME:CEST
DTSTART:19700329T020000
RRULE:FREQ=YEARLY;BYMONTH=3;BYDAY=-1SU
END:DAYLIGHT
BEGIN:STANDARD
TZOFFSETFROM:+0200
TZOFFSETTO:+0100
TZNAME:CET
DTSTART:19701025T030000
RRULE:FREQ=YEARLY;BYMONTH=10;BYDAY=-1SU
END:STANDARD
END:VTIMEZONE
BEGIN:VEVENT
UID:59919e0a5e0c96366a3ebed7fb875638
SUMMARY:Meryem Akdenizli (Klavier)
URL:https://www.concerti.de/termine/meryem-akdenizli-klavier-487430/
DTSTART;TZID=Europe/Berlin:20260802T160000
DTEND;TZID=Europe/Berlin:20260802T180000
DESCRIPTION:Interpreten: Meryem Akdenizli (Klavier) \nProgramm: Mozart: Fantasie d-Moll KV 397\, Chaminade: Les Sylvains D-Dur op. 60 & Thème varié op. 89\, Ravel: Ondine aus „Gaspard de la Nuit“\, Hensel: Melodie op. 4 Nr. 2\, Liszt: Rhapsodie espagnole u. a. \nhttps://www.concerti.de/termine/meryem-akdenizli-klavier-487430/
LOCATION:Liedberger Landgasthaus\, Korschenbroich
END:VEVENT
END:VCALENDAR