BEGIN:VCALENDAR
VERSION:2.0
PRODID:concerti//https://www.concerti.de
CALSCALE:GREGORIAN
BEGIN:VTIMEZONE
TZID:Europe/Berlin
X-LIC-LOCATION:Europe/Berlin
BEGIN:DAYLIGHT
TZOFFSETFROM:+0100
TZOFFSETTO:+0200
TZNAME:CEST
DTSTART:19700329T020000
RRULE:FREQ=YEARLY;BYMONTH=3;BYDAY=-1SU
END:DAYLIGHT
BEGIN:STANDARD
TZOFFSETFROM:+0200
TZOFFSETTO:+0100
TZNAME:CET
DTSTART:19701025T030000
RRULE:FREQ=YEARLY;BYMONTH=10;BYDAY=-1SU
END:STANDARD
END:VTIMEZONE
BEGIN:VEVENT
UID:e6eb177557996deaae5f264756bf2f26
SUMMARY:Aris Quartett
URL:https://www.concerti.de/termine/aris-quartett-rainer-maria-rilke-gymnasium-icking-814478/
DTSTART;TZID=Europe/Berlin:20260425T193000
DTEND;TZID=Europe/Berlin:20260425T213000
DESCRIPTION:Interpreten: Aris Quartett \nProgramm: Beethoven: Streichquartette Nr. 4 c-Moll op. 18/4 & Nr. 7 F-Dur op. 59/1 & Große Fuge op. 133 B-Dur \nhttps://www.concerti.de/termine/aris-quartett-rainer-maria-rilke-gymnasium-icking-814478/
LOCATION:Rainer-Maria-Rilke-Gymnasium Icking\, Ulrichstr. 1 - 7\, 82057 Icking
END:VEVENT
END:VCALENDAR