BEGIN:VCALENDAR
VERSION:2.0
PRODID:concerti//https://www.concerti.de
CALSCALE:GREGORIAN
BEGIN:VTIMEZONE
TZID:Europe/Berlin
X-LIC-LOCATION:Europe/Berlin
BEGIN:DAYLIGHT
TZOFFSETFROM:+0100
TZOFFSETTO:+0200
TZNAME:CEST
DTSTART:19700329T020000
RRULE:FREQ=YEARLY;BYMONTH=3;BYDAY=-1SU
END:DAYLIGHT
BEGIN:STANDARD
TZOFFSETFROM:+0200
TZOFFSETTO:+0100
TZNAME:CET
DTSTART:19701025T030000
RRULE:FREQ=YEARLY;BYMONTH=10;BYDAY=-1SU
END:STANDARD
END:VTIMEZONE
BEGIN:VEVENT
UID:c5af5692d46d6a588e4f3763a1a6123a
SUMMARY:Stephan Pollhammer (Orgel) - Dresdner Orgelzyklus
URL:https://www.concerti.de/termine/stephan-pollhammer-orgel-frauenkirche-dresden-813907/
DTSTART;TZID=Europe/Berlin:20260909T200000
DTEND;TZID=Europe/Berlin:20260909T220000
DESCRIPTION:Interpreten: Stephan Pollhammer (Orgel) \nProgramm: Reuchsel: Nuages ensoleillés sur le cap Nègre\, Demessieux: Lumiere\, Karg-Elert: The Sun\'s Evensong & The Mirrored Moon\, Vierne: Etoile du soir\, Dubois: Fiat Lux\, Reger: Wie schön leucht uns der Morgenstern op. 40/1 \nhttps://www.concerti.de/termine/stephan-pollhammer-orgel-frauenkirche-dresden-813907/
LOCATION:Frauenkirche Dresden\, Neumarkt\, 01067 Dresden
END:VEVENT
END:VCALENDAR