BEGIN:VCALENDAR
VERSION:2.0
PRODID:concerti//https://www.concerti.de
CALSCALE:GREGORIAN
BEGIN:VTIMEZONE
TZID:Europe/Berlin
X-LIC-LOCATION:Europe/Berlin
BEGIN:DAYLIGHT
TZOFFSETFROM:+0100
TZOFFSETTO:+0200
TZNAME:CEST
DTSTART:19700329T020000
RRULE:FREQ=YEARLY;BYMONTH=3;BYDAY=-1SU
END:DAYLIGHT
BEGIN:STANDARD
TZOFFSETFROM:+0200
TZOFFSETTO:+0100
TZNAME:CET
DTSTART:19701025T030000
RRULE:FREQ=YEARLY;BYMONTH=10;BYDAY=-1SU
END:STANDARD
END:VTIMEZONE
BEGIN:VEVENT
UID:4d31246388600b143c5aed7617b3dc13
SUMMARY:Ensembles des European Union Youth Orchestra - Sommerklänge Grafenegg: Prélude
URL:https://www.concerti.de/termine/ensembles-des-european-union-youth-orchestra-812709/
DTSTART;TZID=Europe/Berlin:20260801T180000
DTEND;TZID=Europe/Berlin:20260801T200000
DESCRIPTION:Interpreten: Ensembles des European Union Youth Orchestra \nProgramm: Werke von Mendelssohn\, Brahms & Lutoslawski \nhttps://www.concerti.de/termine/ensembles-des-european-union-youth-orchestra-812709/
LOCATION:Schloss Grafenegg\, Grafenegg 10\, 3485 Grafenegg
END:VEVENT
END:VCALENDAR