BEGIN:VCALENDAR
VERSION:2.0
PRODID:concerti//https://www.concerti.de
CALSCALE:GREGORIAN
BEGIN:VTIMEZONE
TZID:Europe/Berlin
X-LIC-LOCATION:Europe/Berlin
BEGIN:DAYLIGHT
TZOFFSETFROM:+0100
TZOFFSETTO:+0200
TZNAME:CEST
DTSTART:19700329T020000
RRULE:FREQ=YEARLY;BYMONTH=3;BYDAY=-1SU
END:DAYLIGHT
BEGIN:STANDARD
TZOFFSETFROM:+0200
TZOFFSETTO:+0100
TZNAME:CET
DTSTART:19701025T030000
RRULE:FREQ=YEARLY;BYMONTH=10;BYDAY=-1SU
END:STANDARD
END:VTIMEZONE
BEGIN:VEVENT
UID:deead7625293514ce1b45f3e8c44db7c
SUMMARY:Schum Davar - Internationaler Musiksommer Bad Schallerbach
URL:https://www.concerti.de/termine/schum-davar-atrium-bad-schallerbach-811123/
DTSTART;TZID=Europe/Berlin:20261028T190000
DTEND;TZID=Europe/Berlin:20261028T210000
DESCRIPTION:Interpreten: Sandra Kreisler (Gesang) & Band \nhttps://www.concerti.de/termine/schum-davar-atrium-bad-schallerbach-811123/
LOCATION:Atrium Bad Schallerbach\, Promenade 2\, 4701 Bad Schallerbach
END:VEVENT
END:VCALENDAR