BEGIN:VCALENDAR
VERSION:2.0
PRODID:concerti//https://www.concerti.de
CALSCALE:GREGORIAN
BEGIN:VTIMEZONE
TZID:Europe/Berlin
X-LIC-LOCATION:Europe/Berlin
BEGIN:DAYLIGHT
TZOFFSETFROM:+0100
TZOFFSETTO:+0200
TZNAME:CEST
DTSTART:19700329T020000
RRULE:FREQ=YEARLY;BYMONTH=3;BYDAY=-1SU
END:DAYLIGHT
BEGIN:STANDARD
TZOFFSETFROM:+0200
TZOFFSETTO:+0100
TZNAME:CET
DTSTART:19701025T030000
RRULE:FREQ=YEARLY;BYMONTH=10;BYDAY=-1SU
END:STANDARD
END:VTIMEZONE
BEGIN:VEVENT
UID:361ce3788120e6175cf5437a907cf361
SUMMARY:Ilya Gringolts (Violine), Kammerphilharmonie Ingolstadt, Ariel Zuckermann (Leitung)
URL:https://www.concerti.de/termine/ilya-gringolts-violine-georgisches-kammerorchester-ingolstadt-ariel-zuckermann-leitung-stadttheater-ingolstadt-799369/
DTSTART;TZID=Europe/Berlin:20260521T200000
DTEND;TZID=Europe/Berlin:20260521T220000
DESCRIPTION:Interpreten: Ilya Gringolts (Violine)\, Kammerphilharmonie Ingolstadt\, Ariel Zuckermann (Leitung) \nProgramm: Schubert: Rondo\, Weinberg: Concertino op. 42\, Schtschedrin: Suite aus „Carmen“ \nhttps://www.concerti.de/termine/ilya-gringolts-violine-georgisches-kammerorchester-ingolstadt-ariel-zuckermann-leitung-stadttheater-ingolstadt-799369/
LOCATION:Stadttheater Ingolstadt\, Schloßlände 1\, 85049 Ingolstadt
END:VEVENT
END:VCALENDAR