BEGIN:VCALENDAR
VERSION:2.0
PRODID:concerti//https://www.concerti.de
CALSCALE:GREGORIAN
BEGIN:VTIMEZONE
TZID:Europe/Berlin
X-LIC-LOCATION:Europe/Berlin
BEGIN:DAYLIGHT
TZOFFSETFROM:+0100
TZOFFSETTO:+0200
TZNAME:CEST
DTSTART:19700329T020000
RRULE:FREQ=YEARLY;BYMONTH=3;BYDAY=-1SU
END:DAYLIGHT
BEGIN:STANDARD
TZOFFSETFROM:+0200
TZOFFSETTO:+0100
TZNAME:CET
DTSTART:19701025T030000
RRULE:FREQ=YEARLY;BYMONTH=10;BYDAY=-1SU
END:STANDARD
END:VTIMEZONE
BEGIN:VEVENT
UID:dee82155274362936c65f51b8a747dec
SUMMARY:OSI zu Pfingsten
URL:https://www.concerti.de/termine/osi-zu-pfingsten-lac-lugano-arte-e-cultura-797557/
DTSTART;TZID=Europe/Berlin:20260523T200000
DTEND;TZID=Europe/Berlin:20260523T220000
DESCRIPTION:Interpreten: Frank Peter Zimmermann (Violine)\, Orchestra della Svizzera italiana\, Charles Dutoit (Leitung)\, Orchestra della Svizzera italiana\, Charles Dutoit (Leitung) \nProgramm: Mendelssohn: Hebriden-Ouvertüre\, Sibelius: Violinkonzert d-Moll\, Rimski-Korsakow: Shéhérazade- Suite \nhttps://www.concerti.de/termine/osi-zu-pfingsten-lac-lugano-arte-e-cultura-797557/
LOCATION:LAC Lugano Arte e Cultura\, Piazza Bernardino Luini  6\, 6900 Lugano
END:VEVENT
END:VCALENDAR