BEGIN:VCALENDAR
VERSION:2.0
PRODID:concerti//https://www.concerti.de
CALSCALE:GREGORIAN
BEGIN:VTIMEZONE
TZID:Europe/Berlin
X-LIC-LOCATION:Europe/Berlin
BEGIN:DAYLIGHT
TZOFFSETFROM:+0100
TZOFFSETTO:+0200
TZNAME:CEST
DTSTART:19700329T020000
RRULE:FREQ=YEARLY;BYMONTH=3;BYDAY=-1SU
END:DAYLIGHT
BEGIN:STANDARD
TZOFFSETFROM:+0200
TZOFFSETTO:+0100
TZNAME:CET
DTSTART:19701025T030000
RRULE:FREQ=YEARLY;BYMONTH=10;BYDAY=-1SU
END:STANDARD
END:VTIMEZONE
BEGIN:VEVENT
UID:180ef1f0aad24809928af22f7e2d2cc7
SUMMARY:Kálmán: Gräfin Mariza - Lehár Festival Bad Ischl
URL:https://www.concerti.de/termine/kalman-graefin-mariza-kongress-theaterhaus-798204/
DTSTART;TZID=Europe/Berlin:20260823T153000
DTEND;TZID=Europe/Berlin:20260823T173000
DESCRIPTION:Interpreten: Bryony Dwyer (Gräfin Mariza)\, Martin Achrainer (Fürst Populescu)\, Lukas Karzel (Baron Kolomán Zsupán)\, Daniel Pataky (Graf Tassilo von Endrödy-Wittemburg)\, Claudia Goebl (Lisa)\, Petra Strasser (Fürstin Božena Guddenstein zu Clumetz)\, Marius Burkert (Leitung)\, Angela Schweiger (Regie) \nhttps://www.concerti.de/termine/kalman-graefin-mariza-kongress-theaterhaus-798204/
LOCATION:Kongress &amp\; Theaterhaus\, Kurhausstraße 8\, 4820 Bad Ischl
END:VEVENT
END:VCALENDAR