BEGIN:VCALENDAR
VERSION:2.0
PRODID:concerti//https://www.concerti.de
CALSCALE:GREGORIAN
BEGIN:VTIMEZONE
TZID:Europe/Berlin
X-LIC-LOCATION:Europe/Berlin
BEGIN:DAYLIGHT
TZOFFSETFROM:+0100
TZOFFSETTO:+0200
TZNAME:CEST
DTSTART:19700329T020000
RRULE:FREQ=YEARLY;BYMONTH=3;BYDAY=-1SU
END:DAYLIGHT
BEGIN:STANDARD
TZOFFSETFROM:+0200
TZOFFSETTO:+0100
TZNAME:CET
DTSTART:19701025T030000
RRULE:FREQ=YEARLY;BYMONTH=10;BYDAY=-1SU
END:STANDARD
END:VTIMEZONE
BEGIN:VEVENT
UID:71269d691d5ff367a069468bef2e5789
SUMMARY:Janoska Ensemble meets Rolando Villazón - Herbstgold Festival Eisenstadt
URL:https://www.concerti.de/termine/janoska-ensemble-meets-rolando-villazon-797709/
DTSTART;TZID=Europe/Berlin:20260923T193000
DTEND;TZID=Europe/Berlin:20260923T213000
DESCRIPTION:Interpreten: Rolando Villazón (Tenor)\, PRJCT Amsterdam\, Maarten Engeltjes (Countertenor & Leitung) \nProgramm: Werke von Mozart\, Lehár & Verdi \nhttps://www.concerti.de/termine/janoska-ensemble-meets-rolando-villazon-797709/
LOCATION:Schloss Esterházy\, Eisenstadt
END:VEVENT
END:VCALENDAR