BEGIN:VCALENDAR
VERSION:2.0
PRODID:concerti//https://www.concerti.de
CALSCALE:GREGORIAN
BEGIN:VTIMEZONE
TZID:Europe/Berlin
X-LIC-LOCATION:Europe/Berlin
BEGIN:DAYLIGHT
TZOFFSETFROM:+0100
TZOFFSETTO:+0200
TZNAME:CEST
DTSTART:19700329T020000
RRULE:FREQ=YEARLY;BYMONTH=3;BYDAY=-1SU
END:DAYLIGHT
BEGIN:STANDARD
TZOFFSETFROM:+0200
TZOFFSETTO:+0100
TZNAME:CET
DTSTART:19701025T030000
RRULE:FREQ=YEARLY;BYMONTH=10;BYDAY=-1SU
END:STANDARD
END:VTIMEZONE
BEGIN:VEVENT
UID:d22f4415f91232c237ca21d07aa750ef
SUMMARY:Motus Quartett - Herbstgold Festival Eisenstadt
URL:https://www.concerti.de/termine/motus-quartett-797706/
DTSTART;TZID=Europe/Berlin:20260920T110000
DTEND;TZID=Europe/Berlin:20260920T130000
DESCRIPTION:Interpreten: Motus Quartett \nProgramm: Haydn: Streichquartett g-Moll op. 20/3\, Bartók: Streichquartett cis-Moll\, Beethoven: Streichquartett Nr. 12 Es-Dur  op. 127 \nhttps://www.concerti.de/termine/motus-quartett-797706/
LOCATION:Schloss Esterházy\, Eisenstadt
END:VEVENT
END:VCALENDAR