BEGIN:VCALENDAR
VERSION:2.0
PRODID:concerti//https://www.concerti.de
CALSCALE:GREGORIAN
BEGIN:VTIMEZONE
TZID:Europe/Berlin
X-LIC-LOCATION:Europe/Berlin
BEGIN:DAYLIGHT
TZOFFSETFROM:+0100
TZOFFSETTO:+0200
TZNAME:CEST
DTSTART:19700329T020000
RRULE:FREQ=YEARLY;BYMONTH=3;BYDAY=-1SU
END:DAYLIGHT
BEGIN:STANDARD
TZOFFSETFROM:+0200
TZOFFSETTO:+0100
TZNAME:CET
DTSTART:19701025T030000
RRULE:FREQ=YEARLY;BYMONTH=10;BYDAY=-1SU
END:STANDARD
END:VTIMEZONE
BEGIN:VEVENT
UID:c79836261a93c6012a481e26d3d1e067
SUMMARY:Bamberger Symphoniker, Julian Rachlin (Violine &amp; Leitung) - Herbstgold Festival Eisenstadt
URL:https://www.concerti.de/termine/bamberger-symphoniker-julian-rachlin-violine-leitung-797697/
DTSTART;TZID=Europe/Berlin:20260917T193000
DTEND;TZID=Europe/Berlin:20260917T213000
DESCRIPTION:Interpreten: Bamberger Symphoniker\, Julian Rachlin (Violine & Leitung) \nProgramm: Mozart: Violinkonzert Nr. 3 G-Dur KV 216 & Sinfonie Nr. 36 C-Dur KV 425 „Linzer“\, Schumann: Sinfonie Nr. 4 d-Moll op. 120 \nhttps://www.concerti.de/termine/bamberger-symphoniker-julian-rachlin-violine-leitung-797697/
LOCATION:Schloss Esterházy\, Eisenstadt
END:VEVENT
END:VCALENDAR