BEGIN:VCALENDAR
VERSION:2.0
PRODID:concerti//https://www.concerti.de
CALSCALE:GREGORIAN
BEGIN:VTIMEZONE
TZID:Europe/Berlin
X-LIC-LOCATION:Europe/Berlin
BEGIN:DAYLIGHT
TZOFFSETFROM:+0100
TZOFFSETTO:+0200
TZNAME:CEST
DTSTART:19700329T020000
RRULE:FREQ=YEARLY;BYMONTH=3;BYDAY=-1SU
END:DAYLIGHT
BEGIN:STANDARD
TZOFFSETFROM:+0200
TZOFFSETTO:+0100
TZNAME:CET
DTSTART:19701025T030000
RRULE:FREQ=YEARLY;BYMONTH=10;BYDAY=-1SU
END:STANDARD
END:VTIMEZONE
BEGIN:VEVENT
UID:f9a4155f646a2acbfc47c737c4dbb65a
SUMMARY:Eröffnungskonzert - Herbstgold Festival Eisenstadt
URL:https://www.concerti.de/termine/eroeffnungskonzert-797694/
DTSTART;TZID=Europe/Berlin:20260916T193000
DTEND;TZID=Europe/Berlin:20260916T213000
DESCRIPTION:Interpreten: Pablo Ferrandéz (Violoncello)\, Chamber Orchestra of Europe\, Riccardo Minasi \nProgramm: Haydn: Sinfonie Nr. 88 G-Dur Hob. I:88 & Cellokonzert\, Mozart: Sinfonie Nr. 41 C-Dur KV 551 „Jupiter“ \nhttps://www.concerti.de/termine/eroeffnungskonzert-797694/
LOCATION:Schloss Esterházy\, Eisenstadt
END:VEVENT
END:VCALENDAR