BEGIN:VCALENDAR
VERSION:2.0
PRODID:concerti//https://www.concerti.de
CALSCALE:GREGORIAN
BEGIN:VTIMEZONE
TZID:Europe/Berlin
X-LIC-LOCATION:Europe/Berlin
BEGIN:DAYLIGHT
TZOFFSETFROM:+0100
TZOFFSETTO:+0200
TZNAME:CEST
DTSTART:19700329T020000
RRULE:FREQ=YEARLY;BYMONTH=3;BYDAY=-1SU
END:DAYLIGHT
BEGIN:STANDARD
TZOFFSETFROM:+0200
TZOFFSETTO:+0100
TZNAME:CET
DTSTART:19701025T030000
RRULE:FREQ=YEARLY;BYMONTH=10;BYDAY=-1SU
END:STANDARD
END:VTIMEZONE
BEGIN:VEVENT
UID:ee2f1a1078da83f5fbea7eae621e233c
SUMMARY:Korngold: Unvergänglichkeit op. 27
URL:https://www.concerti.de/termine/korngold-unvergaenglichkeit-op-27-797655/
DTSTART;TZID=Europe/Berlin:20261112T193000
DTEND;TZID=Europe/Berlin:20261112T213000
DESCRIPTION:Interpreten: Sara Duchovnay (Sopran)\, Christoph Stöcker (Klavier) \nhttps://www.concerti.de/termine/korngold-unvergaenglichkeit-op-27-797655/
LOCATION:Maxhaus\, Düsseldorf
END:VEVENT
END:VCALENDAR