BEGIN:VCALENDAR
VERSION:2.0
PRODID:concerti//https://www.concerti.de
CALSCALE:GREGORIAN
BEGIN:VTIMEZONE
TZID:Europe/Berlin
X-LIC-LOCATION:Europe/Berlin
BEGIN:DAYLIGHT
TZOFFSETFROM:+0100
TZOFFSETTO:+0200
TZNAME:CEST
DTSTART:19700329T020000
RRULE:FREQ=YEARLY;BYMONTH=3;BYDAY=-1SU
END:DAYLIGHT
BEGIN:STANDARD
TZOFFSETFROM:+0200
TZOFFSETTO:+0100
TZNAME:CET
DTSTART:19701025T030000
RRULE:FREQ=YEARLY;BYMONTH=10;BYDAY=-1SU
END:STANDARD
END:VTIMEZONE
BEGIN:VEVENT
UID:9d9f440a5ba7a83a96062fd212e71476
SUMMARY:Daniel Stabrawa (Violine), Detmolder Kammerorchester, Stanley Dodds (Leitung)
URL:https://www.concerti.de/termine/daniel-stabrawa-violine-detmolder-kammerorchester-stanley-dodds-leitung-konzerthaus-detmold-797640/
DTSTART;TZID=Europe/Berlin:20260707T193000
DTEND;TZID=Europe/Berlin:20260707T213000
DESCRIPTION:Interpreten: Daniel Stabrawa (Violine)\, Detmolder Kammerorchester\, Stanley Dodds (Leitung) \nProgramm: Händel: Sinfonia aus „Saul“ HWV 53\, Klebe: Mignon op. 133\, Kilar: Orawa\, Herrmann: Fahrenheit 451 Suite \nhttps://www.concerti.de/termine/daniel-stabrawa-violine-detmolder-kammerorchester-stanley-dodds-leitung-konzerthaus-detmold-797640/
LOCATION:Hochschule für Musik Detmold\, Neustadt 22\, 32756 Detmold
END:VEVENT
END:VCALENDAR