BEGIN:VCALENDAR
VERSION:2.0
PRODID:concerti//https://www.concerti.de
CALSCALE:GREGORIAN
BEGIN:VTIMEZONE
TZID:Europe/Berlin
X-LIC-LOCATION:Europe/Berlin
BEGIN:DAYLIGHT
TZOFFSETFROM:+0100
TZOFFSETTO:+0200
TZNAME:CEST
DTSTART:19700329T020000
RRULE:FREQ=YEARLY;BYMONTH=3;BYDAY=-1SU
END:DAYLIGHT
BEGIN:STANDARD
TZOFFSETFROM:+0200
TZOFFSETTO:+0100
TZNAME:CET
DTSTART:19701025T030000
RRULE:FREQ=YEARLY;BYMONTH=10;BYDAY=-1SU
END:STANDARD
END:VTIMEZONE
BEGIN:VEVENT
UID:89c9876ac6c68980eb53386036c3ea3c
SUMMARY:Rimski-Korsakow: Schneeflöckchen
URL:https://www.concerti.de/termine/rimski-korsakow-schneefloeckchen-hessisches-staatstheater-797321/
DTSTART;TZID=Europe/Berlin:20260429T193000
DTEND;TZID=Europe/Berlin:20260429T213000
DESCRIPTION:Interpreten: Josefine Mindus (Schneeflöckchen)\, Camille Sherman (Mutter Frühling)\, Young Doo Park (Vater Frost & Bermjata)\, Galina Benevich (Kupawa)\, Fleuranne Brockway (Lel)\, Jaeyoung Ha (Misgir)\, Richard Trey Smagur (Zar Berendej)\, Leo McFall (Leitung)\, Maxim Didenko (Regie) \nhttps://www.concerti.de/termine/rimski-korsakow-schneefloeckchen-hessisches-staatstheater-797321/
LOCATION:Hessisches Staatstheater\, Christian-Zais-Straße 3\, 65189 Wiesbaden
END:VEVENT
END:VCALENDAR