BEGIN:VCALENDAR
VERSION:2.0
PRODID:concerti//https://www.concerti.de
CALSCALE:GREGORIAN
BEGIN:VTIMEZONE
TZID:Europe/Berlin
X-LIC-LOCATION:Europe/Berlin
BEGIN:DAYLIGHT
TZOFFSETFROM:+0100
TZOFFSETTO:+0200
TZNAME:CEST
DTSTART:19700329T020000
RRULE:FREQ=YEARLY;BYMONTH=3;BYDAY=-1SU
END:DAYLIGHT
BEGIN:STANDARD
TZOFFSETFROM:+0200
TZOFFSETTO:+0100
TZNAME:CET
DTSTART:19701025T030000
RRULE:FREQ=YEARLY;BYMONTH=10;BYDAY=-1SU
END:STANDARD
END:VTIMEZONE
BEGIN:VEVENT
UID:ada2f43452b9795943c2fb65e3510215
SUMMARY:Akademie für Alte Musik Berlin
URL:https://www.concerti.de/termine/akademie-fuer-alte-musik-berlin-fuerstensaal-fulda-797225/
DTSTART;TZID=Europe/Berlin:20260425T200000
DTEND;TZID=Europe/Berlin:20260425T220000
DESCRIPTION:Interpreten: Akademie für Alte Musik Berlin \nProgramm: J. S. Bach: Suiten Nr. 1 C-Dur BWV 1066\, Nr. 2 h-Moll BWV 1067\, Nr. 3 D-Dur BWV 1068 & Nr. 4 D-Dur BWV 1069 \nhttps://www.concerti.de/termine/akademie-fuer-alte-musik-berlin-fuerstensaal-fulda-797225/
LOCATION:Fürstensaal Fulda\, Schloßstraße 1\, 36037 Fulda
END:VEVENT
END:VCALENDAR