BEGIN:VCALENDAR
VERSION:2.0
PRODID:concerti//https://www.concerti.de
CALSCALE:GREGORIAN
BEGIN:VTIMEZONE
TZID:Europe/Berlin
X-LIC-LOCATION:Europe/Berlin
BEGIN:DAYLIGHT
TZOFFSETFROM:+0100
TZOFFSETTO:+0200
TZNAME:CEST
DTSTART:19700329T020000
RRULE:FREQ=YEARLY;BYMONTH=3;BYDAY=-1SU
END:DAYLIGHT
BEGIN:STANDARD
TZOFFSETFROM:+0200
TZOFFSETTO:+0100
TZNAME:CET
DTSTART:19701025T030000
RRULE:FREQ=YEARLY;BYMONTH=10;BYDAY=-1SU
END:STANDARD
END:VTIMEZONE
BEGIN:VEVENT
UID:154a8d4f71cbef8895e3aba191346ee7
SUMMARY:J. Strauss: Die Fledermaus
URL:https://www.concerti.de/termine/j-strauss-die-fledermaus-staatsoperette-796218/
DTSTART;TZID=Europe/Berlin:20260531T150000
DTEND;TZID=Europe/Berlin:20260531T170000
DESCRIPTION:Interpreten: Christian Garbosnik (Leitung)\, Kathrin Kondaurow (Regie) \nhttps://www.concerti.de/termine/j-strauss-die-fledermaus-staatsoperette-796218/
LOCATION:Staatsoperette Dresden\, Kraftwerk Mitte 1\, 01067 Dresden
END:VEVENT
END:VCALENDAR