BEGIN:VCALENDAR
VERSION:2.0
PRODID:concerti//https://www.concerti.de
CALSCALE:GREGORIAN
BEGIN:VTIMEZONE
TZID:Europe/Berlin
X-LIC-LOCATION:Europe/Berlin
BEGIN:DAYLIGHT
TZOFFSETFROM:+0100
TZOFFSETTO:+0200
TZNAME:CEST
DTSTART:19700329T020000
RRULE:FREQ=YEARLY;BYMONTH=3;BYDAY=-1SU
END:DAYLIGHT
BEGIN:STANDARD
TZOFFSETFROM:+0200
TZOFFSETTO:+0100
TZNAME:CET
DTSTART:19701025T030000
RRULE:FREQ=YEARLY;BYMONTH=10;BYDAY=-1SU
END:STANDARD
END:VTIMEZONE
BEGIN:VEVENT
UID:3c041311c6e917708fb87bfa8a141038
SUMMARY:Dove: In 80 Tagen um die Welt
URL:https://www.concerti.de/termine/dove-in-80-tagen-um-die-welt-theater-erfurt-796191/
DTSTART;TZID=Europe/Berlin:20260509T190000
DTEND;TZID=Europe/Berlin:20260509T210000
DESCRIPTION:Interpreten: Clemens Fieguth (Leitung)\, Nina Kühner (Regie) \nhttps://www.concerti.de/termine/dove-in-80-tagen-um-die-welt-theater-erfurt-796191/
LOCATION:Theater Erfurt\, Theaterplatz 1\, 99084 Erfurt
END:VEVENT
END:VCALENDAR