BEGIN:VCALENDAR
VERSION:2.0
PRODID:concerti//https://www.concerti.de
CALSCALE:GREGORIAN
BEGIN:VTIMEZONE
TZID:Europe/Berlin
X-LIC-LOCATION:Europe/Berlin
BEGIN:DAYLIGHT
TZOFFSETFROM:+0100
TZOFFSETTO:+0200
TZNAME:CEST
DTSTART:19700329T020000
RRULE:FREQ=YEARLY;BYMONTH=3;BYDAY=-1SU
END:DAYLIGHT
BEGIN:STANDARD
TZOFFSETFROM:+0200
TZOFFSETTO:+0100
TZNAME:CET
DTSTART:19701025T030000
RRULE:FREQ=YEARLY;BYMONTH=10;BYDAY=-1SU
END:STANDARD
END:VTIMEZONE
BEGIN:VEVENT
UID:46d36bc9ef725510fa711e303ad3412a
SUMMARY:Adam Laloum (Klavier) - Schubertiade Hohenems / Schwarzenberg
URL:https://www.concerti.de/termine/adam-laloum-klavier-794701/
DTSTART;TZID=Europe/Berlin:20260718T160000
DTEND;TZID=Europe/Berlin:20260718T180000
DESCRIPTION:Interpreten: Adam Laloum (Klavier) \nProgramm: Berg: Sonate op. 1\, Schubert: Sonate a-Moll D 845\, Schumann: Romanze Fis-Dur op. 28/2 & Novellette A-Dur op. 21/8\, Brahms: Acht Klavierstücke op. 76 \nhttps://www.concerti.de/termine/adam-laloum-klavier-794701/
LOCATION:Markus-Sittikus-Saal\, Hohenems
END:VEVENT
END:VCALENDAR