BEGIN:VCALENDAR
VERSION:2.0
PRODID:concerti//https://www.concerti.de
CALSCALE:GREGORIAN
BEGIN:VTIMEZONE
TZID:Europe/Berlin
X-LIC-LOCATION:Europe/Berlin
BEGIN:DAYLIGHT
TZOFFSETFROM:+0100
TZOFFSETTO:+0200
TZNAME:CEST
DTSTART:19700329T020000
RRULE:FREQ=YEARLY;BYMONTH=3;BYDAY=-1SU
END:DAYLIGHT
BEGIN:STANDARD
TZOFFSETFROM:+0200
TZOFFSETTO:+0100
TZNAME:CET
DTSTART:19701025T030000
RRULE:FREQ=YEARLY;BYMONTH=10;BYDAY=-1SU
END:STANDARD
END:VTIMEZONE
BEGIN:VEVENT
UID:728d880ff7579e84322afbffbc9a1ecb
SUMMARY:Andrè Schuen (Bariton), Daniel Heide (Klavier) - Schubertiade Hohenems / Schwarzenberg
URL:https://www.concerti.de/termine/andre-schuen-bariton-daniel-heide-klavier-794683/
DTSTART;TZID=Europe/Berlin:20260624T160000
DTEND;TZID=Europe/Berlin:20260624T180000
DESCRIPTION:Interpreten: Andrè Schuen (Bariton)\, Daniel Heide (Klavier) \nProgramm: Schubert: An Schwager Kronos D 369\, Freiwilliges Versinken D 700\, Gruppe aus dem Tartarus D 583\, Die Bürgschaft D 246\, Strophe aus „Die Götter Griechenlands“ D 677\, Lied eines Schiffers an die  Dioskuren D 360\, Memnon D 541 & Prometheus D 674\, Larcher: Unerzählt \nhttps://www.concerti.de/termine/andre-schuen-bariton-daniel-heide-klavier-794683/
LOCATION:Angelika-Kauffmann-Saal\, Schwarzenberg
END:VEVENT
END:VCALENDAR