BEGIN:VCALENDAR
VERSION:2.0
PRODID:concerti//https://www.concerti.de
CALSCALE:GREGORIAN
BEGIN:VTIMEZONE
TZID:Europe/Berlin
X-LIC-LOCATION:Europe/Berlin
BEGIN:DAYLIGHT
TZOFFSETFROM:+0100
TZOFFSETTO:+0200
TZNAME:CEST
DTSTART:19700329T020000
RRULE:FREQ=YEARLY;BYMONTH=3;BYDAY=-1SU
END:DAYLIGHT
BEGIN:STANDARD
TZOFFSETFROM:+0200
TZOFFSETTO:+0100
TZNAME:CET
DTSTART:19701025T030000
RRULE:FREQ=YEARLY;BYMONTH=10;BYDAY=-1SU
END:STANDARD
END:VTIMEZONE
BEGIN:VEVENT
UID:91edac629e9325961bf1f99af51b03fa
SUMMARY:Erika Baikoff (Sopran), Patrick Grahl (Tenor), Konstantin Krimmel (Bariton), Daniel Heide (Klavier) - Schubertiade Hohenems / Schwarzenberg
URL:https://www.concerti.de/termine/erika-baikoff-sopran-patrick-grahl-tenor-konstantin-krimmel-bariton-daniel-heide-klavier-794679/
DTSTART;TZID=Europe/Berlin:20260623T160000
DTEND;TZID=Europe/Berlin:20260623T180000
DESCRIPTION:Interpreten: Erika Baikoff (Sopran)\, Patrick Grahl (Tenor)\, Konstantin Krimmel (Bariton)\, Daniel Heide (Klavier) \nProgramm: Schubert: Arien & Duette aus „Die Zwillingsbrüder“\, Kantate zum Geburtstag des Sängers Johann Michael Vogl D 666\, Arien & Duette aus „Alfonso und Estrella“ & Der Hochzeitsbraten D 930 \nhttps://www.concerti.de/termine/erika-baikoff-sopran-patrick-grahl-tenor-konstantin-krimmel-bariton-daniel-heide-klavier-794679/
LOCATION:Angelika-Kauffmann-Saal\, Schwarzenberg
END:VEVENT
END:VCALENDAR