BEGIN:VCALENDAR
VERSION:2.0
PRODID:concerti//https://www.concerti.de
CALSCALE:GREGORIAN
BEGIN:VTIMEZONE
TZID:Europe/Berlin
X-LIC-LOCATION:Europe/Berlin
BEGIN:DAYLIGHT
TZOFFSETFROM:+0100
TZOFFSETTO:+0200
TZNAME:CEST
DTSTART:19700329T020000
RRULE:FREQ=YEARLY;BYMONTH=3;BYDAY=-1SU
END:DAYLIGHT
BEGIN:STANDARD
TZOFFSETFROM:+0200
TZOFFSETTO:+0100
TZNAME:CET
DTSTART:19701025T030000
RRULE:FREQ=YEARLY;BYMONTH=10;BYDAY=-1SU
END:STANDARD
END:VTIMEZONE
BEGIN:VEVENT
UID:05f2578cfde2b87b514e6b38071dc6ac
SUMMARY:Konstantin Krimmel (Bariton), Kammerchor Feldkirch, Johannes Hämmerle (Orgel), Mitglieder des Symphonieorchesters Vorarlberg, Benjamin Lack (Leitung) - Schubertiade Hohenems / Schwarzenberg
URL:https://www.concerti.de/termine/konstantin-krimmel-bariton-kammerchor-feldkirch-johannes-haemmerle-orgel-mitglieder-des-symphonieorchesters-vorarlberg-benjamin-lack-leitung-794579/
DTSTART;TZID=Europe/Berlin:20260501T200000
DTEND;TZID=Europe/Berlin:20260501T220000
DESCRIPTION:Interpreten: Konstantin Krimmel (Bariton)\, Kammerchor Feldkirch\, Johannes Hämmerle (Orgel)\, Mitglieder des Symphonieorchesters Vorarlberg\, Benjamin Lack (Leitung) \nProgramm: Schubert: Kyrie B-Dur D 45\, Sanctus B-Dur D 56\, Salve Regina F-Dur D 379\, Salve Regina B-Dur D 386\, Deutsches Requiem D 621\, Sechs Antiphonen zum Palmsonntag D 696\, 92. Psalm D 953\, Deutsche Messe mit Anhang „Das Gebet des Herrn“ D 872 \nhttps://www.concerti.de/termine/konstantin-krimmel-bariton-kammerchor-feldkirch-johannes-haemmerle-orgel-mitglieder-des-symphonieorchesters-vorarlberg-benjamin-lack-leitung-794579/
LOCATION:Pfarrkirche St. Karl\, Hohenems
END:VEVENT
END:VCALENDAR