BEGIN:VCALENDAR
VERSION:2.0
PRODID:concerti//https://www.concerti.de
CALSCALE:GREGORIAN
BEGIN:VTIMEZONE
TZID:Europe/Berlin
X-LIC-LOCATION:Europe/Berlin
BEGIN:DAYLIGHT
TZOFFSETFROM:+0100
TZOFFSETTO:+0200
TZNAME:CEST
DTSTART:19700329T020000
RRULE:FREQ=YEARLY;BYMONTH=3;BYDAY=-1SU
END:DAYLIGHT
BEGIN:STANDARD
TZOFFSETFROM:+0200
TZOFFSETTO:+0100
TZNAME:CET
DTSTART:19701025T030000
RRULE:FREQ=YEARLY;BYMONTH=10;BYDAY=-1SU
END:STANDARD
END:VTIMEZONE
BEGIN:VEVENT
UID:b47887d1dac826f573f9b6b41a7118ff
SUMMARY:Ein Leben in Liedern - Schubertiade Hohenems / Schwarzenberg
URL:https://www.concerti.de/termine/ein-leben-in-liedern-794566/
DTSTART;TZID=Europe/Berlin:20260429T200000
DTEND;TZID=Europe/Berlin:20260429T220000
DESCRIPTION:Interpreten: Konstantin Krimmel (Bariton)\, Ammiel Bushakevitz (Klavier) \nProgramm: Schubert: Der Pilgrim D 794\, Sehnsucht D 636\, Ganymed D 544\, Die Sterne D 939\, An die Leier D 737\, Der Blumenbrief D 622\, Alinde D 904\, Rastlose Liebe D 138\, Willkommen und Abschied D 767 u. a. \nhttps://www.concerti.de/termine/ein-leben-in-liedern-794566/
LOCATION:Markus-Sittikus-Saal\, Hohenems
END:VEVENT
END:VCALENDAR