BEGIN:VCALENDAR
VERSION:2.0
PRODID:concerti//https://www.concerti.de
CALSCALE:GREGORIAN
BEGIN:VTIMEZONE
TZID:Europe/Berlin
X-LIC-LOCATION:Europe/Berlin
BEGIN:DAYLIGHT
TZOFFSETFROM:+0100
TZOFFSETTO:+0200
TZNAME:CEST
DTSTART:19700329T020000
RRULE:FREQ=YEARLY;BYMONTH=3;BYDAY=-1SU
END:DAYLIGHT
BEGIN:STANDARD
TZOFFSETFROM:+0200
TZOFFSETTO:+0100
TZNAME:CET
DTSTART:19701025T030000
RRULE:FREQ=YEARLY;BYMONTH=10;BYDAY=-1SU
END:STANDARD
END:VTIMEZONE
BEGIN:VEVENT
UID:4d0ed0a79412bc759eb63f59492b592d
SUMMARY:Bergische Symphoniker, Samira Nasser (Leitung) - Stadtteilkonzert
URL:https://www.concerti.de/termine/bergische-symphoniker-samira-nasser-leitung-793487/
DTSTART;TZID=Europe/Berlin:20260715T170000
DTEND;TZID=Europe/Berlin:20260715T190000
DESCRIPTION:Interpreten: Bergische Symphoniker\, Samira Nasser (Leitung) \nhttps://www.concerti.de/termine/bergische-symphoniker-samira-nasser-leitung-793487/
LOCATION:Stadtpark\, Remscheid
END:VEVENT
END:VCALENDAR