BEGIN:VCALENDAR
VERSION:2.0
PRODID:concerti//https://www.concerti.de
CALSCALE:GREGORIAN
BEGIN:VTIMEZONE
TZID:Europe/Berlin
X-LIC-LOCATION:Europe/Berlin
BEGIN:DAYLIGHT
TZOFFSETFROM:+0100
TZOFFSETTO:+0200
TZNAME:CEST
DTSTART:19700329T020000
RRULE:FREQ=YEARLY;BYMONTH=3;BYDAY=-1SU
END:DAYLIGHT
BEGIN:STANDARD
TZOFFSETFROM:+0200
TZOFFSETTO:+0100
TZNAME:CET
DTSTART:19701025T030000
RRULE:FREQ=YEARLY;BYMONTH=10;BYDAY=-1SU
END:STANDARD
END:VTIMEZONE
BEGIN:VEVENT
UID:004ba19b2ab345cd6049ee1af4f359ac
SUMMARY:Migrations – Story of a Bird - Rising Stars
URL:https://www.concerti.de/termine/migrations-story-of-a-bird-konzerthaus-wien-792326/
DTSTART;TZID=Europe/Berlin:20260519T193000
DTEND;TZID=Europe/Berlin:20260519T213000
DESCRIPTION:Interpreten: Álfheiður Erla Guðmundsdóttir (Sopran)\, Kunal Lahiry (Klavier) \nProgramm: Barber: The Crucifixion op. 29/5\, Muhly: Sá ég svani\, Sibelius: Norden op. 90/1\, Wallen: North & Rain\, Weir: White Eggs in the Bush\, Rachmaninow: Vesennije vody „Frühlingsfluten“ op. 14/11 & Son „Traum“ op. 8/5\, Ravel: Oiseaux tristes\, Bonds: Summer Storm u. a. \nhttps://www.concerti.de/termine/migrations-story-of-a-bird-konzerthaus-wien-792326/
LOCATION:Wiener Konzerthaus\, Lothringerstraße 20\, 1030 Wien
END:VEVENT
END:VCALENDAR