BEGIN:VCALENDAR
VERSION:2.0
PRODID:concerti//https://www.concerti.de
CALSCALE:GREGORIAN
BEGIN:VTIMEZONE
TZID:Europe/Berlin
X-LIC-LOCATION:Europe/Berlin
BEGIN:DAYLIGHT
TZOFFSETFROM:+0100
TZOFFSETTO:+0200
TZNAME:CEST
DTSTART:19700329T020000
RRULE:FREQ=YEARLY;BYMONTH=3;BYDAY=-1SU
END:DAYLIGHT
BEGIN:STANDARD
TZOFFSETFROM:+0200
TZOFFSETTO:+0100
TZNAME:CET
DTSTART:19701025T030000
RRULE:FREQ=YEARLY;BYMONTH=10;BYDAY=-1SU
END:STANDARD
END:VTIMEZONE
BEGIN:VEVENT
UID:7dab1435f58f00d7e9d96bfd0d3aff5a
SUMMARY:Scharoun Ensemble Berlin
URL:https://www.concerti.de/termine/scharoun-ensemble-berlin-konzerthaus-wien-792310/
DTSTART;TZID=Europe/Berlin:20260517T193000
DTEND;TZID=Europe/Berlin:20260517T213000
DESCRIPTION:Interpreten: Scharoun Ensemble Berlin \nProgramm: Mozart: Hornquintett Es-Dur KV 386c\, Henze: Quattro Fantasie\, Schubert: Oktett F-Dur D 803 \nhttps://www.concerti.de/termine/scharoun-ensemble-berlin-konzerthaus-wien-792310/
LOCATION:Wiener Konzerthaus\, Lothringerstraße 20\, 1030 Wien
END:VEVENT
END:VCALENDAR