BEGIN:VCALENDAR
VERSION:2.0
PRODID:concerti//https://www.concerti.de
CALSCALE:GREGORIAN
BEGIN:VTIMEZONE
TZID:Europe/Berlin
X-LIC-LOCATION:Europe/Berlin
BEGIN:DAYLIGHT
TZOFFSETFROM:+0100
TZOFFSETTO:+0200
TZNAME:CEST
DTSTART:19700329T020000
RRULE:FREQ=YEARLY;BYMONTH=3;BYDAY=-1SU
END:DAYLIGHT
BEGIN:STANDARD
TZOFFSETFROM:+0200
TZOFFSETTO:+0100
TZNAME:CET
DTSTART:19701025T030000
RRULE:FREQ=YEARLY;BYMONTH=10;BYDAY=-1SU
END:STANDARD
END:VTIMEZONE
BEGIN:VEVENT
UID:398bfc974c36c5b933bf290b5ef37952
SUMMARY:Viktoriia Vitrenko (Sopran), Allison Cook (Stimme), IRCAM (Live Elektronik), Markus Wallner (Klangregie), Klangforum Wien, Elena Schwarz (Leitung)
URL:https://www.concerti.de/termine/viktoriia-vitrenko-sopran-allison-cook-stimme-ircam-live-elektronik-markus-wallner-klangregie-klangforum-wien-elena-schwarz-leitung-konzerthaus-wien-792260/
DTSTART;TZID=Europe/Berlin:20260504T190000
DTEND;TZID=Europe/Berlin:20260504T210000
DESCRIPTION:Interpreten: Viktoriia Vitrenko (Sopran)\, Allison Cook (Stimme)\, IRCAM (Live Elektronik)\, Markus Wallner (Klangregie)\, Klangforum Wien\, Elena Schwarz (Leitung) \nProgramm: Mundry: Neues Werk (EA)\, Illés: Neues Werk (EA)\, Kurtág: Botschaften des verstorbenen Fräulein R. V. Troussova op. 17 \nhttps://www.concerti.de/termine/viktoriia-vitrenko-sopran-allison-cook-stimme-ircam-live-elektronik-markus-wallner-klangregie-klangforum-wien-elena-schwarz-leitung-konzerthaus-wien-792260/
LOCATION:Wiener Konzerthaus\, Lothringerstraße 20\, 1030 Wien
END:VEVENT
END:VCALENDAR