BEGIN:VCALENDAR
VERSION:2.0
PRODID:concerti//https://www.concerti.de
CALSCALE:GREGORIAN
BEGIN:VTIMEZONE
TZID:Europe/Berlin
X-LIC-LOCATION:Europe/Berlin
BEGIN:DAYLIGHT
TZOFFSETFROM:+0100
TZOFFSETTO:+0200
TZNAME:CEST
DTSTART:19700329T020000
RRULE:FREQ=YEARLY;BYMONTH=3;BYDAY=-1SU
END:DAYLIGHT
BEGIN:STANDARD
TZOFFSETFROM:+0200
TZOFFSETTO:+0100
TZNAME:CET
DTSTART:19701025T030000
RRULE:FREQ=YEARLY;BYMONTH=10;BYDAY=-1SU
END:STANDARD
END:VTIMEZONE
BEGIN:VEVENT
UID:76dd0aeb2abfa47e915b6a3178c02e89
SUMMARY:Emanuel Blumin-Sint (Fagott), Brandenburgisches Staatsorchester Frankfurt, Elisaveta Blumina (Leitung)
URL:https://www.concerti.de/termine/emanuel-blumin-sint-fagott-brandenburgisches-staatsorchester-frankfurt-elisaveta-blumina-leitung-791220/
DTSTART;TZID=Europe/Berlin:20260503T110000
DTEND;TZID=Europe/Berlin:20260503T130000
DESCRIPTION:Interpreten: Emanuel Blumin-Sint (Fagott)\, Brandenburgisches Staatsorchester Frankfurt\, Elisaveta Blumina (Leitung) \nProgramm: Mozart: Fagottkonzert B-Dur KV 191\, Weber: Andante e Rondo ungarese c-Moll op. 35\, Rossini: Fagottkonzert \nhttps://www.concerti.de/termine/emanuel-blumin-sint-fagott-brandenburgisches-staatsorchester-frankfurt-elisaveta-blumina-leitung-791220/
LOCATION:Messehalle 4\, Frankfurt (Oder)
END:VEVENT
END:VCALENDAR