BEGIN:VCALENDAR
VERSION:2.0
PRODID:concerti//https://www.concerti.de
CALSCALE:GREGORIAN
BEGIN:VTIMEZONE
TZID:Europe/Berlin
X-LIC-LOCATION:Europe/Berlin
BEGIN:DAYLIGHT
TZOFFSETFROM:+0100
TZOFFSETTO:+0200
TZNAME:CEST
DTSTART:19700329T020000
RRULE:FREQ=YEARLY;BYMONTH=3;BYDAY=-1SU
END:DAYLIGHT
BEGIN:STANDARD
TZOFFSETFROM:+0200
TZOFFSETTO:+0100
TZNAME:CET
DTSTART:19701025T030000
RRULE:FREQ=YEARLY;BYMONTH=10;BYDAY=-1SU
END:STANDARD
END:VTIMEZONE
BEGIN:VEVENT
UID:26fb85af22cca70b3ed238908310e539
SUMMARY:Rota: Der Florentiner Hut
URL:https://www.concerti.de/termine/rotader-florentiner-hut-opernhaus-wuppertal-790879/
DTSTART;TZID=Europe/Berlin:20260716T140000
DTEND;TZID=Europe/Berlin:20260716T160000
DESCRIPTION:Laura Attridges Leidenschaft gilt nicht nur dem Regieführen\, sondern als Dichterin auch dem Verhältnis von Wort und Musik\, was ihr bei Nino Rotas Satire „Der Florentiner Hut“ besonders entgegenkommt. Denn bei Rota – einem breiten Publikum als Schöpfer der Filmmusik zu „Der Pate“ bekannt – überschlagen sich die Worte. In der tonalen Musiksprache finden dabei Elemente der Opéra-comique ebenso ihren Platz wie der Verismo und die Operette. All diese musikalische Hektik ist jedoch notwendig\, damit das zentrale Missgeschick des innerhalb der Handlung – ein Pferd\, das den Strohhut einer Dame frisst und damit ihren Seitensprung entlarvt – seine köstliche Schärfe [&hellip\;] \nInterpreten: Yorgos Ziavras (Leitung)\, Laura Attridge (Regie) \nhttps://www.concerti.de/termine/rotader-florentiner-hut-opernhaus-wuppertal-790879/
LOCATION:Opernhaus Wuppertal\, Kurt-Drees-Straße 4\, 42283 Wuppertal
END:VEVENT
END:VCALENDAR