BEGIN:VCALENDAR
VERSION:2.0
PRODID:concerti//https://www.concerti.de
CALSCALE:GREGORIAN
BEGIN:VTIMEZONE
TZID:Europe/Berlin
X-LIC-LOCATION:Europe/Berlin
BEGIN:DAYLIGHT
TZOFFSETFROM:+0100
TZOFFSETTO:+0200
TZNAME:CEST
DTSTART:19700329T020000
RRULE:FREQ=YEARLY;BYMONTH=3;BYDAY=-1SU
END:DAYLIGHT
BEGIN:STANDARD
TZOFFSETFROM:+0200
TZOFFSETTO:+0100
TZNAME:CET
DTSTART:19701025T030000
RRULE:FREQ=YEARLY;BYMONTH=10;BYDAY=-1SU
END:STANDARD
END:VTIMEZONE
BEGIN:VEVENT
UID:485e758646cdee3973a4055ed1ac4b20
SUMMARY:Guettel: Das Licht auf der Piazza
URL:https://www.concerti.de/termine/guettel-das-licht-auf-der-piazza-oper-opernhaus-wuppertal-790857/
DTSTART;TZID=Europe/Berlin:20260705T180000
DTEND;TZID=Europe/Berlin:20260705T200000
DESCRIPTION:Interpreten: Yorgos Ziavras (Leitung)\, Carsten Kirchmeier (Regie) \nhttps://www.concerti.de/termine/guettel-das-licht-auf-der-piazza-oper-opernhaus-wuppertal-790857/
LOCATION:Opernhaus Wuppertal\, Kurt-Drees-Straße 4\, 42283 Wuppertal
END:VEVENT
END:VCALENDAR