BEGIN:VCALENDAR
VERSION:2.0
PRODID:concerti//https://www.concerti.de
CALSCALE:GREGORIAN
BEGIN:VTIMEZONE
TZID:Europe/Berlin
X-LIC-LOCATION:Europe/Berlin
BEGIN:DAYLIGHT
TZOFFSETFROM:+0100
TZOFFSETTO:+0200
TZNAME:CEST
DTSTART:19700329T020000
RRULE:FREQ=YEARLY;BYMONTH=3;BYDAY=-1SU
END:DAYLIGHT
BEGIN:STANDARD
TZOFFSETFROM:+0200
TZOFFSETTO:+0100
TZNAME:CET
DTSTART:19701025T030000
RRULE:FREQ=YEARLY;BYMONTH=10;BYDAY=-1SU
END:STANDARD
END:VTIMEZONE
BEGIN:VEVENT
UID:2da63da02bc0e7ec10ff0c5621986fc0
SUMMARY:Susanne Bernhard (Sopran), Markus Eiche (Bariton), Tomasz Adam Nowak (Orgel), Philharmonischer Chor, Sinfonieorchester Münster, Martin Henning (Leitung)
URL:https://www.concerti.de/termine/susanne-bernhard-sopran-markus-eiche-bariton-tomasz-adam-nowak-orgel-philharmonischer-chor-sinfonieorchester-muenster-martin-henning-leitung-790300/
DTSTART;TZID=Europe/Berlin:20260711T200000
DTEND;TZID=Europe/Berlin:20260711T220000
DESCRIPTION:Interpreten: Susanne Bernhard (Sopran)\, Markus Eiche (Bariton)\, Tomasz Adam Nowak (Orgel)\, Philharmonischer Chor\, Sinfonieorchester Münster\, Martin Henning (Leitung) \nProgramm: Poulenc: Orgelkonzert g-Moll\, Vaughan Williams: A Sea Symphony \nhttps://www.concerti.de/termine/susanne-bernhard-sopran-markus-eiche-bariton-tomasz-adam-nowak-orgel-philharmonischer-chor-sinfonieorchester-muenster-martin-henning-leitung-790300/
LOCATION:St. Lamberti\, Münster
END:VEVENT
END:VCALENDAR