BEGIN:VCALENDAR
VERSION:2.0
PRODID:concerti//https://www.concerti.de
CALSCALE:GREGORIAN
BEGIN:VTIMEZONE
TZID:Europe/Berlin
X-LIC-LOCATION:Europe/Berlin
BEGIN:DAYLIGHT
TZOFFSETFROM:+0100
TZOFFSETTO:+0200
TZNAME:CEST
DTSTART:19700329T020000
RRULE:FREQ=YEARLY;BYMONTH=3;BYDAY=-1SU
END:DAYLIGHT
BEGIN:STANDARD
TZOFFSETFROM:+0200
TZOFFSETTO:+0100
TZNAME:CET
DTSTART:19701025T030000
RRULE:FREQ=YEARLY;BYMONTH=10;BYDAY=-1SU
END:STANDARD
END:VTIMEZONE
BEGIN:VEVENT
UID:ed672f065130269497bc00ca53567d4b
SUMMARY:Loewe: My Fair Lady
URL:https://www.concerti.de/termine/loewe-my-fair-lady-anhaltisches-theater-788158/
DTSTART;TZID=Europe/Berlin:20260531T170000
DTEND;TZID=Europe/Berlin:20260531T190000
DESCRIPTION:Interpreten: Wolfgang Kluge (Leitung)\, Johannes Weigand (Regie) \nhttps://www.concerti.de/termine/loewe-my-fair-lady-anhaltisches-theater-788158/
LOCATION:Anhaltisches Theater Dessau-Roßlau\, Friedensplatz 1a\, 06844 Dessau-Roßlau
END:VEVENT
END:VCALENDAR