BEGIN:VCALENDAR
VERSION:2.0
PRODID:concerti//https://www.concerti.de
CALSCALE:GREGORIAN
BEGIN:VTIMEZONE
TZID:Europe/Berlin
X-LIC-LOCATION:Europe/Berlin
BEGIN:DAYLIGHT
TZOFFSETFROM:+0100
TZOFFSETTO:+0200
TZNAME:CEST
DTSTART:19700329T020000
RRULE:FREQ=YEARLY;BYMONTH=3;BYDAY=-1SU
END:DAYLIGHT
BEGIN:STANDARD
TZOFFSETFROM:+0200
TZOFFSETTO:+0100
TZNAME:CET
DTSTART:19701025T030000
RRULE:FREQ=YEARLY;BYMONTH=10;BYDAY=-1SU
END:STANDARD
END:VTIMEZONE
BEGIN:VEVENT
UID:04f03f32b81eb4f77b0b6be0fbe2ebfb
SUMMARY:Julius Asal (Klavier)
URL:https://www.concerti.de/termine/julius-asal-klavier-franziskanerkloster-785314/
DTSTART;TZID=Europe/Berlin:20260619T200000
DTEND;TZID=Europe/Berlin:20260619T220000
DESCRIPTION:Interpreten: Julius Asal (Klavier) \nProgramm: Schubert: Klaviersonaten fis-Moll D 571 & a-Moll D 784\, Prokofjew: Drei Gedanken op. 62\, Rachmaninow: Préludes op. 32 \nhttps://www.concerti.de/termine/julius-asal-klavier-franziskanerkloster-785314/
LOCATION:Kulturforum Franziskanerkloster Kempen\, Burgstr. 19\, 47906 Kempen
END:VEVENT
END:VCALENDAR