BEGIN:VCALENDAR
VERSION:2.0
PRODID:concerti//https://www.concerti.de
CALSCALE:GREGORIAN
BEGIN:VTIMEZONE
TZID:Europe/Berlin
X-LIC-LOCATION:Europe/Berlin
BEGIN:DAYLIGHT
TZOFFSETFROM:+0100
TZOFFSETTO:+0200
TZNAME:CEST
DTSTART:19700329T020000
RRULE:FREQ=YEARLY;BYMONTH=3;BYDAY=-1SU
END:DAYLIGHT
BEGIN:STANDARD
TZOFFSETFROM:+0200
TZOFFSETTO:+0100
TZNAME:CET
DTSTART:19701025T030000
RRULE:FREQ=YEARLY;BYMONTH=10;BYDAY=-1SU
END:STANDARD
END:VTIMEZONE
BEGIN:VEVENT
UID:3154e25b94abacfb9600b07e4c05fbaf
SUMMARY:Gerd Jordan (Orgel) - Wandsbeker Abendmusiken
URL:https://www.concerti.de/termine/gerd-jordan-orgel-christuskirche-wandsbek-774871/
DTSTART;TZID=Europe/Berlin:20260925T193000
DTEND;TZID=Europe/Berlin:20260925T213000
DESCRIPTION:Interpreten: Gerd Jordan (Orgel) \nProgramm: Werke von Stamm\, Takle\, Willscher\, Brét\, Parsons\, Williams\, Widor\, Vierne & J. S. Bach \nhttps://www.concerti.de/termine/gerd-jordan-orgel-christuskirche-wandsbek-774871/
LOCATION:Christuskirche Hamburg Wandsbek\, Robert-Schuman-Brücke 1\, 22041 Hamburg
END:VEVENT
END:VCALENDAR