BEGIN:VCALENDAR
VERSION:2.0
PRODID:concerti//https://www.concerti.de
CALSCALE:GREGORIAN
BEGIN:VTIMEZONE
TZID:Europe/Berlin
X-LIC-LOCATION:Europe/Berlin
BEGIN:DAYLIGHT
TZOFFSETFROM:+0100
TZOFFSETTO:+0200
TZNAME:CEST
DTSTART:19700329T020000
RRULE:FREQ=YEARLY;BYMONTH=3;BYDAY=-1SU
END:DAYLIGHT
BEGIN:STANDARD
TZOFFSETFROM:+0200
TZOFFSETTO:+0100
TZNAME:CET
DTSTART:19701025T030000
RRULE:FREQ=YEARLY;BYMONTH=10;BYDAY=-1SU
END:STANDARD
END:VTIMEZONE
BEGIN:VEVENT
UID:eb1889995ceb9cc843d283972ce6b4e8
SUMMARY:Briefe an …
URL:https://www.concerti.de/termine/briefe-an-theaterfabrik-blaue-halle-wuerzburg-773748/
DTSTART;TZID=Europe/Berlin:20260724T193000
DTEND;TZID=Europe/Berlin:20260724T213000
DESCRIPTION:Interpreten: Dominique Dumais (Choreografie) \nhttps://www.concerti.de/termine/briefe-an-theaterfabrik-blaue-halle-wuerzburg-773748/
LOCATION:Theaterfabrik Blaue Halle Würzburg\, Alfred-Nobel-Straße 33\, 97080 Würzburg
END:VEVENT
END:VCALENDAR