BEGIN:VCALENDAR
VERSION:2.0
PRODID:concerti//https://www.concerti.de
CALSCALE:GREGORIAN
BEGIN:VTIMEZONE
TZID:Europe/Berlin
X-LIC-LOCATION:Europe/Berlin
BEGIN:DAYLIGHT
TZOFFSETFROM:+0100
TZOFFSETTO:+0200
TZNAME:CEST
DTSTART:19700329T020000
RRULE:FREQ=YEARLY;BYMONTH=3;BYDAY=-1SU
END:DAYLIGHT
BEGIN:STANDARD
TZOFFSETFROM:+0200
TZOFFSETTO:+0100
TZNAME:CET
DTSTART:19701025T030000
RRULE:FREQ=YEARLY;BYMONTH=10;BYDAY=-1SU
END:STANDARD
END:VTIMEZONE
BEGIN:VEVENT
UID:e923abff3931ff78f686d6adc8cc5a0f
SUMMARY:Relations
URL:https://www.concerti.de/termine/relations-aalto-musiktheater-773491/
DTSTART;TZID=Europe/Berlin:20260711T190000
DTEND;TZID=Europe/Berlin:20260711T210000
DESCRIPTION:Interpreten: Jiří Kylián (Choreografie)\, Johan Inger (Choreografie) \nhttps://www.concerti.de/termine/relations-aalto-musiktheater-773491/
LOCATION:Aalto-Musiktheater Essen\, Opernplatz 10\, 45128 Essen
END:VEVENT
END:VCALENDAR