BEGIN:VCALENDAR
VERSION:2.0
PRODID:concerti//https://www.concerti.de
CALSCALE:GREGORIAN
BEGIN:VTIMEZONE
TZID:Europe/Berlin
X-LIC-LOCATION:Europe/Berlin
BEGIN:DAYLIGHT
TZOFFSETFROM:+0100
TZOFFSETTO:+0200
TZNAME:CEST
DTSTART:19700329T020000
RRULE:FREQ=YEARLY;BYMONTH=3;BYDAY=-1SU
END:DAYLIGHT
BEGIN:STANDARD
TZOFFSETFROM:+0200
TZOFFSETTO:+0100
TZNAME:CET
DTSTART:19701025T030000
RRULE:FREQ=YEARLY;BYMONTH=10;BYDAY=-1SU
END:STANDARD
END:VTIMEZONE
BEGIN:VEVENT
UID:6dd8dffe2df82b568a26b0a36a9856eb
SUMMARY:Tanzen bis in die Puppen
URL:https://www.concerti.de/termine/tanzen-bis-in-die-puppen-theaterfabrik-blaue-halle-wuerzburg-772929/
DTSTART;TZID=Europe/Berlin:20260528T193000
DTEND;TZID=Europe/Berlin:20260528T213000
DESCRIPTION:Interpreten: Kevin O\'Day (Choreografie) \nhttps://www.concerti.de/termine/tanzen-bis-in-die-puppen-theaterfabrik-blaue-halle-wuerzburg-772929/
LOCATION:Theaterfabrik Blaue Halle Würzburg\, Alfred-Nobel-Straße 33\, 97080 Würzburg
END:VEVENT
END:VCALENDAR