BEGIN:VCALENDAR
VERSION:2.0
PRODID:concerti//https://www.concerti.de
CALSCALE:GREGORIAN
BEGIN:VTIMEZONE
TZID:Europe/Berlin
X-LIC-LOCATION:Europe/Berlin
BEGIN:DAYLIGHT
TZOFFSETFROM:+0100
TZOFFSETTO:+0200
TZNAME:CEST
DTSTART:19700329T020000
RRULE:FREQ=YEARLY;BYMONTH=3;BYDAY=-1SU
END:DAYLIGHT
BEGIN:STANDARD
TZOFFSETFROM:+0200
TZOFFSETTO:+0100
TZNAME:CET
DTSTART:19701025T030000
RRULE:FREQ=YEARLY;BYMONTH=10;BYDAY=-1SU
END:STANDARD
END:VTIMEZONE
BEGIN:VEVENT
UID:2b7f71767f6079417cd8cdf2defae211
SUMMARY:Christoph Prégardien (Tenor), Julian Prégardien (Tenor), Michael Gees (Klavier)
URL:https://www.concerti.de/termine/christoph-pregardien-tenor-julian-pregardien-tenor-michael-gees-klavier-konzerthalle-bamberg-772813/
DTSTART;TZID=Europe/Berlin:20260518T200000
DTEND;TZID=Europe/Berlin:20260518T220000
DESCRIPTION:Interpreten: Christoph Prégardien (Tenor)\, Julian Prégardien (Tenor)\, Michael Gees (Klavier) \nProgramm: Werke von Schubert \nhttps://www.concerti.de/termine/christoph-pregardien-tenor-julian-pregardien-tenor-michael-gees-klavier-konzerthalle-bamberg-772813/
LOCATION:Konzerthalle Bamberg\, Mußstraße 1\, 96047 Bamberg
END:VEVENT
END:VCALENDAR