BEGIN:VCALENDAR
VERSION:2.0
PRODID:concerti//https://www.concerti.de
CALSCALE:GREGORIAN
BEGIN:VTIMEZONE
TZID:Europe/Berlin
X-LIC-LOCATION:Europe/Berlin
BEGIN:DAYLIGHT
TZOFFSETFROM:+0100
TZOFFSETTO:+0200
TZNAME:CEST
DTSTART:19700329T020000
RRULE:FREQ=YEARLY;BYMONTH=3;BYDAY=-1SU
END:DAYLIGHT
BEGIN:STANDARD
TZOFFSETFROM:+0200
TZOFFSETTO:+0100
TZNAME:CET
DTSTART:19701025T030000
RRULE:FREQ=YEARLY;BYMONTH=10;BYDAY=-1SU
END:STANDARD
END:VTIMEZONE
BEGIN:VEVENT
UID:03ef478065903fe4532c1b0c63f5b27c
SUMMARY:Nicola Benedetti (Violine), Rundfunk-Sinfonieorchester Berlin, Jonathan Nott (Leitung)
URL:https://www.concerti.de/termine/nicola-benedetti-violine-rundfunk-sinfonieorchester-berlin-jonathan-nott-leitung-philharmonie-berlin-772548/
DTSTART;TZID=Europe/Berlin:20260628T200000
DTEND;TZID=Europe/Berlin:20260628T220000
DESCRIPTION:Interpreten: Nicola Benedetti (Violine)\, Rundfunk-Sinfonieorchester Berlin\, Jonathan Nott (Leitung) \nProgramm: Elgar: Violinkonzert h-Moll op. 61\, Tschaikowsky: Sinfonie Nr. 3 D-Dur op. 29 \nhttps://www.concerti.de/termine/nicola-benedetti-violine-rundfunk-sinfonieorchester-berlin-jonathan-nott-leitung-philharmonie-berlin-772548/
LOCATION:Philharmonie Berlin\, Herbert-von-Karajan-Straße 1\, 10785 Berlin
END:VEVENT
END:VCALENDAR