BEGIN:VCALENDAR
VERSION:2.0
PRODID:concerti//https://www.concerti.de
CALSCALE:GREGORIAN
BEGIN:VTIMEZONE
TZID:Europe/Berlin
X-LIC-LOCATION:Europe/Berlin
BEGIN:DAYLIGHT
TZOFFSETFROM:+0100
TZOFFSETTO:+0200
TZNAME:CEST
DTSTART:19700329T020000
RRULE:FREQ=YEARLY;BYMONTH=3;BYDAY=-1SU
END:DAYLIGHT
BEGIN:STANDARD
TZOFFSETFROM:+0200
TZOFFSETTO:+0100
TZNAME:CET
DTSTART:19701025T030000
RRULE:FREQ=YEARLY;BYMONTH=10;BYDAY=-1SU
END:STANDARD
END:VTIMEZONE
BEGIN:VEVENT
UID:5f726a973a638b2ceac484aa16c61989
SUMMARY:Mendelssohn: Paulus op. 36 (zum Mitsingen)
URL:https://www.concerti.de/termine/mendelssohn-paulus-op-36-zum-mitsingen-philharmonie-berlin-772538/
DTSTART;TZID=Europe/Berlin:20260517T153000
DTEND;TZID=Europe/Berlin:20260517T173000
DESCRIPTION:Interpreten: Victoria Randem (Sopran)\, Anna Alàs i Jové (Alt)\, Kieran Carrel (Tenor)\, Roderick Williams (Bass)\, Rundfunkchor Berlin\, Rundfunk-Sinfonieorchester Berlin\, Deutsche Streicherphilharmonie\, Simon Halsey (Leitung) \nhttps://www.concerti.de/termine/mendelssohn-paulus-op-36-zum-mitsingen-philharmonie-berlin-772538/
LOCATION:Philharmonie Berlin\, Herbert-von-Karajan-Straße 1\, 10785 Berlin
END:VEVENT
END:VCALENDAR