BEGIN:VCALENDAR
VERSION:2.0
PRODID:concerti//https://www.concerti.de
CALSCALE:GREGORIAN
BEGIN:VTIMEZONE
TZID:Europe/Berlin
X-LIC-LOCATION:Europe/Berlin
BEGIN:DAYLIGHT
TZOFFSETFROM:+0100
TZOFFSETTO:+0200
TZNAME:CEST
DTSTART:19700329T020000
RRULE:FREQ=YEARLY;BYMONTH=3;BYDAY=-1SU
END:DAYLIGHT
BEGIN:STANDARD
TZOFFSETFROM:+0200
TZOFFSETTO:+0100
TZNAME:CET
DTSTART:19701025T030000
RRULE:FREQ=YEARLY;BYMONTH=10;BYDAY=-1SU
END:STANDARD
END:VTIMEZONE
BEGIN:VEVENT
UID:3f770593435208aed56b59f8b37b25b7
SUMMARY:BiPhil After Work
URL:https://www.concerti.de/termine/biphil-after-work-rudolf-oetker-halle-769004/
DTSTART;TZID=Europe/Berlin:20260605T190000
DTEND;TZID=Europe/Berlin:20260605T210000
DESCRIPTION:Interpreten: Bielefelder Philharmoniker\, Anne Hinrichsen (Leitung) \nhttps://www.concerti.de/termine/biphil-after-work-rudolf-oetker-halle-769004/
LOCATION:Rudolf-Oetker-Halle\, Lampingstraße 16\, 33615 Bielefeld
END:VEVENT
END:VCALENDAR