BEGIN:VCALENDAR
VERSION:2.0
PRODID:concerti//https://www.concerti.de
CALSCALE:GREGORIAN
BEGIN:VTIMEZONE
TZID:Europe/Berlin
X-LIC-LOCATION:Europe/Berlin
BEGIN:DAYLIGHT
TZOFFSETFROM:+0100
TZOFFSETTO:+0200
TZNAME:CEST
DTSTART:19700329T020000
RRULE:FREQ=YEARLY;BYMONTH=3;BYDAY=-1SU
END:DAYLIGHT
BEGIN:STANDARD
TZOFFSETFROM:+0200
TZOFFSETTO:+0100
TZNAME:CET
DTSTART:19701025T030000
RRULE:FREQ=YEARLY;BYMONTH=10;BYDAY=-1SU
END:STANDARD
END:VTIMEZONE
BEGIN:VEVENT
UID:2cd7dae4354f5543ff78980bac3922ee
SUMMARY:Andreas Scholl (Countertenor), Tamar Halperin (Cembalo)
URL:https://www.concerti.de/termine/andreas-scholl-countertenor-tamar-halperin-cembalo-768525/
DTSTART;TZID=Europe/Berlin:20260503T190000
DTEND;TZID=Europe/Berlin:20260503T210000
DESCRIPTION:Zwar zählt Countertenor Andreas Scholl längst zur Weltspitze\, seine Karriere verdankt er aber auch dem Glück: 1993 sprang er bei einem Liederabend im Pariser Théâtre Grévin kurzfristig ein – auf Wunsch von René Jacobs\, bei dem er studiert hatte. Höhepunkte wie sein Auftritt 2005 als erster Countertenor bei der Last Night of the Proms in London oder sein Debüt an der MET im Jahr 2006 folgten und belegen die künstlerische Autorität. Selbst Sting nahm dessen Stimme und Dowland-Interpretationen als Inspiration für die jüngsten eigenen Ausflüge in die Welt der Renaissance-Musik. \nInterpreten: Andreas Scholl (Countertenor)\, Tamar Halperin (Cembalo) \nProgramm: Werke von Purcell\, Dowland u. a. \nhttps://www.concerti.de/termine/andreas-scholl-countertenor-tamar-halperin-cembalo-768525/
LOCATION:Stadthalle Kasten\, Feuchtwangen
END:VEVENT
END:VCALENDAR