BEGIN:VCALENDAR
VERSION:2.0
PRODID:concerti//https://www.concerti.de
CALSCALE:GREGORIAN
BEGIN:VTIMEZONE
TZID:Europe/Berlin
X-LIC-LOCATION:Europe/Berlin
BEGIN:DAYLIGHT
TZOFFSETFROM:+0100
TZOFFSETTO:+0200
TZNAME:CEST
DTSTART:19700329T020000
RRULE:FREQ=YEARLY;BYMONTH=3;BYDAY=-1SU
END:DAYLIGHT
BEGIN:STANDARD
TZOFFSETFROM:+0200
TZOFFSETTO:+0100
TZNAME:CET
DTSTART:19701025T030000
RRULE:FREQ=YEARLY;BYMONTH=10;BYDAY=-1SU
END:STANDARD
END:VTIMEZONE
BEGIN:VEVENT
UID:39516f0d22b8d1c2d40b340f418a6641
SUMMARY:Nina Junke (Violine), Magdalena Kraus (Violine), Wolfram Hauser (Viola), Lucie de Roos (Violoncello), Gregor Moser (Schlagzeug), Jens Herz (Schlagzeug)
URL:https://www.concerti.de/termine/nina-junke-violine-magdalena-kraus-violine-wolfram-hauser-viola-lucie-de-roos-violoncello-gregor-moser-schlagzeug-jens-herz-schlagzeug-konzerthalle-bamberg-766036/
DTSTART;TZID=Europe/Berlin:20260526T200000
DTEND;TZID=Europe/Berlin:20260526T220000
DESCRIPTION:Interpreten: Nina Junke (Violine)\, Magdalena Kraus (Violine)\, Wolfram Hauser (Viola)\, Lucie de Roos (Violoncello)\, Gregor Moser (Schlagzeug)\, Jens Herz (Schlagzeug) \nProgramm: Vinetz: Lucite dreams\, Glass: Streichquartett Nr. 3\, Pape: CaDance\, Campagna: Neues Werk \nhttps://www.concerti.de/termine/nina-junke-violine-magdalena-kraus-violine-wolfram-hauser-viola-lucie-de-roos-violoncello-gregor-moser-schlagzeug-jens-herz-schlagzeug-konzerthalle-bamberg-766036/
LOCATION:Konzerthalle Bamberg\, Mußstraße 1\, 96047 Bamberg
END:VEVENT
END:VCALENDAR