BEGIN:VCALENDAR
VERSION:2.0
PRODID:concerti//https://www.concerti.de
CALSCALE:GREGORIAN
BEGIN:VTIMEZONE
TZID:Europe/Berlin
X-LIC-LOCATION:Europe/Berlin
BEGIN:DAYLIGHT
TZOFFSETFROM:+0100
TZOFFSETTO:+0200
TZNAME:CEST
DTSTART:19700329T020000
RRULE:FREQ=YEARLY;BYMONTH=3;BYDAY=-1SU
END:DAYLIGHT
BEGIN:STANDARD
TZOFFSETFROM:+0200
TZOFFSETTO:+0100
TZNAME:CET
DTSTART:19701025T030000
RRULE:FREQ=YEARLY;BYMONTH=10;BYDAY=-1SU
END:STANDARD
END:VTIMEZONE
BEGIN:VEVENT
UID:6041f34a5a9d3465a9d423ef7c896df9
SUMMARY:Solisten des Symphonieorchesters des Bayerischen Rundfunks
URL:https://www.concerti.de/termine/solisten-des-symphonieorchesters-des-bayerischen-rundfunks-stadttheater-ingolstadt-764049/
DTSTART;TZID=Europe/Berlin:20260615T200000
DTEND;TZID=Europe/Berlin:20260615T220000
DESCRIPTION:Interpreten: Solisten des Symphonieorchesters des Bayerischen Rundfunks \nProgramm: Schubert: Oktett F-Dur D 803\, Werke von Hosokawa & Abrahamse \nhttps://www.concerti.de/termine/solisten-des-symphonieorchesters-des-bayerischen-rundfunks-stadttheater-ingolstadt-764049/
LOCATION:Stadttheater Ingolstadt\, Schloßlände 1\, 85049 Ingolstadt
END:VEVENT
END:VCALENDAR