BEGIN:VCALENDAR
VERSION:2.0
PRODID:concerti//https://www.concerti.de
CALSCALE:GREGORIAN
BEGIN:VTIMEZONE
TZID:Europe/Berlin
X-LIC-LOCATION:Europe/Berlin
BEGIN:DAYLIGHT
TZOFFSETFROM:+0100
TZOFFSETTO:+0200
TZNAME:CEST
DTSTART:19700329T020000
RRULE:FREQ=YEARLY;BYMONTH=3;BYDAY=-1SU
END:DAYLIGHT
BEGIN:STANDARD
TZOFFSETFROM:+0200
TZOFFSETTO:+0100
TZNAME:CET
DTSTART:19701025T030000
RRULE:FREQ=YEARLY;BYMONTH=10;BYDAY=-1SU
END:STANDARD
END:VTIMEZONE
BEGIN:VEVENT
UID:293f65f923af859ce0aaff6e82a5a6ca
SUMMARY:Berg: Lulu
URL:https://www.concerti.de/termine/berg-lulu-staatstheater-nuernberg-760911/
DTSTART;TZID=Europe/Berlin:20260614T153000
DTEND;TZID=Europe/Berlin:20260614T173000
DESCRIPTION:Interpreten: Juliana Zara (Lulu)\, Almerija Delic (Gräfin Geschwitz)\, Martin Platz (Alwa)\, Jan Croonenbroeck (Leitung)\, Jens-Daniel Herzog (Regie)\, Juliana Zara (Lulu)\, Almerija Delic (Gräfin Geschwitz)\, Martin Platz (Alwa)\, Roland Kluttig (Leitung)\, Jens-Daniel Herzog (Regie) \nhttps://www.concerti.de/termine/berg-lulu-staatstheater-nuernberg-760911/
LOCATION:Staatstheater Nürnberg\, Richard-Wagner Platz 2-10\, 90443 Nürnberg
END:VEVENT
END:VCALENDAR